BEGIN:VCALENDAR
PRODID:-//AT Content Types//AT Event//EN
VERSION:2.0
METHOD:PUBLISH
BEGIN:VEVENT
DTSTAMP:20260419T232700Z
CREATED:20221102T114053Z
UID:ATEvent-179d52110cc0481f86db37c46152ebf1
LAST-MODIFIED:20221102T114137Z
SUMMARY:Comissió Legislativa d’Afers Socials i Igualtat
DTSTART:20221103T083000Z
DTEND:20221103T083000Z
LOCATION:Nova seu Planta -3 sala AB
CLASS:PUBLIC
END:VEVENT
END:VCALENDAR
