BEGIN:VCALENDAR
PRODID:-//AT Content Types//AT Event//EN
VERSION:2.0
METHOD:PUBLISH
BEGIN:VEVENT
DTSTAMP:20260425T011640Z
CREATED:20230109T094000Z
UID:ATEvent-74fefdd81c2d4e3393dca4b625331bb0
LAST-MODIFIED:20230109T094003Z
SUMMARY:Comissió Legislativa d’Afers Socials i Igualtat
DTSTART:20230109T150000Z
DTEND:20230109T150000Z
LOCATION:Nova seu Planta -3 sala AB
CLASS:PUBLIC
END:VEVENT
END:VCALENDAR
