BEGIN:VCALENDAR
PRODID:-//AT Content Types//AT Event//EN
VERSION:1.0
BEGIN:VEVENT
DTSTART:20241209T140000Z
DTEND:20241209T160000Z
DCREATED:20241121T154201Z
UID:ATEvent-be39ba49343f4231a81f5a920ac3a7af
SEQUENCE:0
LAST-MODIFIED:20241121T154206Z
SUMMARY:Comissió Legislativa d’Afers Socials i Igualtat
PRIORITY:3
TRANSP:0
END:VEVENT
END:VCALENDAR
