BEGIN:VCALENDAR
PRODID:-//AT Content Types//AT Event//EN
VERSION:2.0
METHOD:PUBLISH
BEGIN:VEVENT
DTSTAMP:20260421T192325Z
CREATED:20231207T083238Z
UID:ATEvent-42051dc036784c4880aec7a4715cbb97
LAST-MODIFIED:20231207T094749Z
SUMMARY:Comissió Legislativa de Justícia\, Interior i Afers Institucionals
DTSTART:20231213T103000Z
DTEND:20231213T120000Z
LOCATION:Consell General (planta -3)
CLASS:PUBLIC
END:VEVENT
END:VCALENDAR
