BEGIN:VCALENDAR
PRODID:-//AT Content Types//AT Event//EN
VERSION:1.0
BEGIN:VEVENT
DTSTART:20151104T083000Z
DTEND:20151104T083000Z
DCREATED:20151020T104211Z
UID:ATEvent-4f5b6c5acfea4734ae62b991804fea5a
SEQUENCE:0
LAST-MODIFIED:20151020T104703Z
SUMMARY:Comissió especial de vigilància i prevenció de risc per a l'estabilitat financera
LOCATION:Nova seu Planta -3 sala de compareixences
PRIORITY:3
TRANSP:0
END:VEVENT
END:VCALENDAR
