BEGIN:VCALENDAR
PRODID:-//AT Content Types//AT Event//EN
VERSION:1.0
BEGIN:VEVENT
DTSTART:20190206T090000Z
DTEND:20190206T090000Z
DCREATED:20190118T130156Z
UID:ATEvent-5ef7a87b6fc74244bd074f115900c79a
SEQUENCE:0
LAST-MODIFIED:20190118T130226Z
SUMMARY:Comissió especial de vigilància i prevenció de risc per a l'estabilitat financera
LOCATION:Nova seu Planta -3 sala AB
PRIORITY:3
TRANSP:0
END:VEVENT
END:VCALENDAR
