BEGIN:VCALENDAR
PRODID:-//AT Content Types//AT Event//EN
VERSION:1.0
BEGIN:VEVENT
DTSTART:20180418T080000Z
DTEND:20180418T080000Z
DCREATED:20180404T131250Z
UID:ATEvent-db0c659b8de94cd5a277f9d35ae63655
SEQUENCE:0
LAST-MODIFIED:20180404T131253Z
SUMMARY:Comissió especial de vigilància i prevenció de risc per a l'estabilitat financera
LOCATION:Nova seu Planta -3 sala AB
PRIORITY:3
TRANSP:0
END:VEVENT
END:VCALENDAR
