BEGIN:VCALENDAR
PRODID:-//AT Content Types//AT Event//EN
VERSION:1.0
BEGIN:VEVENT
DTSTART:20180404T080000Z
DTEND:20180404T080000Z
DCREATED:20180320T151727Z
UID:ATEvent-4eb04f5f24ca47de9b65dd953b6b75c3
SEQUENCE:0
LAST-MODIFIED:20180320T151731Z
SUMMARY:Comissió especial de vigilància i prevenció de risc per a l'estabilitat financera
LOCATION:Nova seu Planta -3 sala AB
PRIORITY:3
TRANSP:0
END:VEVENT
END:VCALENDAR
