BEGIN:VCALENDAR
PRODID:-//AT Content Types//AT Event//EN
VERSION:2.0
METHOD:PUBLISH
BEGIN:VEVENT
DTSTAMP:20260423T110538Z
CREATED:20160715T081131Z
UID:ATEvent-912fa76b82494e9aababc03a7592439f
LAST-MODIFIED:20160715T081214Z
SUMMARY:Comissió especial de vigilància i prevenció de risc per a l'estabilitat financera
DTSTART:20160727T080000Z
DTEND:20160727T080000Z
LOCATION:Nova seu Planta -3 sala AB
CLASS:PUBLIC
END:VEVENT
END:VCALENDAR
