BEGIN:VCALENDAR
PRODID:-//AT Content Types//AT Event//EN
VERSION:1.0
BEGIN:VEVENT
DTSTART:20160525T073000Z
DTEND:20160525T073000Z
DCREATED:20160523T062724Z
UID:ATEvent-b11a8ff899e248b297a2d72e9a3dbc9c
SEQUENCE:0
LAST-MODIFIED:20160523T062727Z
SUMMARY:Comissió especial de vigilància i prevenció de risc per a l'estabilitat financera
LOCATION:Nova seu Planta -3 sala AB
PRIORITY:3
TRANSP:0
END:VEVENT
END:VCALENDAR
