BEGIN:VCALENDAR
PRODID:-//AT Content Types//AT Event//EN
VERSION:1.0
BEGIN:VEVENT
DTSTART:20150909T080000Z
DTEND:20150909T080000Z
DCREATED:20150731T084239Z
UID:ATEvent-d3baefaedb1f4a13bc7554edba11e724
SEQUENCE:0
LAST-MODIFIED:20150731T084243Z
SUMMARY:Comissió especial de vigilància i prevenció de risc per a l’estabilitat financera
LOCATION:Nova seu Planta -3 sala AB
PRIORITY:3
TRANSP:0
END:VEVENT
END:VCALENDAR
