BEGIN:VCALENDAR
PRODID:-//AT Content Types//AT Event//EN
VERSION:2.0
METHOD:PUBLISH
BEGIN:VEVENT
DTSTAMP:20260421T175656Z
CREATED:20150720T081231Z
UID:ATEvent-4c3c3bf4fcf54981b791d40d40a7e58d
LAST-MODIFIED:20150728T064148Z
SUMMARY:ANUL·LADA: Comissió especial de vigilància i prevenció de risc per a l’estabilitat financera
DTSTART:20150729T133000Z
DTEND:20150729T133000Z
DESCRIPTION:ANUL·LADA
LOCATION:Nova seu Planta -3 sala de compareixences
CLASS:PUBLIC
END:VEVENT
END:VCALENDAR
