BEGIN:VCALENDAR
PRODID:-//AT Content Types//AT Event//EN
VERSION:1.0
BEGIN:VEVENT
DTSTART:20150722T073000Z
DTEND:20150722T073000Z
DCREATED:20150708T115408Z
UID:ATEvent-7e0f975cd1b8461db461e7e883c1954c
SEQUENCE:0
LAST-MODIFIED:20150722T073312Z
SUMMARY:Comissió especial de vigilància i prevenció de risc per a l’estabilitat financera
LOCATION:Nova seu Planta -3 sala AB
PRIORITY:3
TRANSP:0
END:VEVENT
END:VCALENDAR
