BEGIN:VCALENDAR
PRODID:-//AT Content Types//AT Event//EN
VERSION:1.0
BEGIN:VEVENT
DTSTART:20170524T080000Z
DTEND:20170524T080000Z
DCREATED:20170510T112915Z
UID:ATEvent-92f2244b01c24e2197141724ef914361
SEQUENCE:0
LAST-MODIFIED:20170511T112042Z
SUMMARY:Comissió especial de vigilància i prevenció de risc per a l’estabilitat financera
LOCATION:Nova seu Planta -3 sala AB
PRIORITY:3
TRANSP:0
END:VEVENT
END:VCALENDAR
