BEGIN:VCALENDAR
PRODID:-//AT Content Types//AT Event//EN
VERSION:1.0
BEGIN:VEVENT
DTSTART:20170118T083000Z
DTEND:20170118T083000Z
DCREATED:20170110T093551Z
UID:ATEvent-01c6d94260324695b66b4baa3ce08716
SEQUENCE:0
LAST-MODIFIED:20170110T134553Z
SUMMARY:Comissió especial de vigilància i prevenció de risc per a l’estabilitat financera
LOCATION:Nova seu Planta -3 sala AB
PRIORITY:3
TRANSP:0
END:VEVENT
END:VCALENDAR
