BEGIN:VCALENDAR
PRODID:-//AT Content Types//AT Event//EN
VERSION:2.0
METHOD:PUBLISH
BEGIN:VEVENT
DTSTAMP:20260424T094806Z
CREATED:20150630T085152Z
UID:ATEvent-6891ebb93d03451a8c004259ec88cf32
LAST-MODIFIED:20150701T075240Z
SUMMARY:Comissió especial de vigilància i prevenció de risc per a l’estabilitat financera
DTSTART:20150701T073000Z
DTEND:20150701T073000Z
LOCATION:Nova seu Planta -3 sala AB
CLASS:PUBLIC
END:VEVENT
END:VCALENDAR
