BEGIN:VCALENDAR
PRODID:-//AT Content Types//AT Event//EN
VERSION:2.0
METHOD:PUBLISH
BEGIN:VEVENT
DTSTAMP:20260420T023406Z
CREATED:20220518T103926Z
UID:ATEvent-5d857c987dbe4b2595a57d0aed7aed47
LAST-MODIFIED:20220518T103941Z
SUMMARY:Comissió especial de seguiment de la CASS i per a la sostenibilitat de les pensions
DTSTART:20220607T150000Z
DTEND:20220607T150000Z
LOCATION:Nova seu Planta -3 sala de compareixences públiques
CLASS:PUBLIC
END:VEVENT
END:VCALENDAR
