BEGIN:VCALENDAR
PRODID:-//AT Content Types//AT Event//EN
VERSION:1.0
BEGIN:VEVENT
DTSTART:20220614T150000Z
DTEND:20220614T150000Z
DCREATED:20220518T103744Z
UID:ATEvent-df15694b02b2424ea83a3c82528ab35e
SEQUENCE:0
LAST-MODIFIED:20220518T103752Z
SUMMARY:Comissió especial de seguiment de la CASS i per a la sostenibilitat de les pensions
LOCATION:Nova seu Planta -3 sala de compareixences públiques
PRIORITY:3
TRANSP:0
END:VEVENT
END:VCALENDAR
