BEGIN:VCALENDAR
PRODID:-//AT Content Types//AT Event//EN
VERSION:2.0
METHOD:PUBLISH
BEGIN:VEVENT
DTSTAMP:20260422T202222Z
CREATED:20220510T085627Z
UID:ATEvent-950d54327ea144b2a384eb42e4b5c20b
LAST-MODIFIED:20220510T085638Z
SUMMARY:Comissió especial de seguiment de la CASS i per a la sostenibilitat de les pensions
DTSTART:20220517T150000Z
DTEND:20220517T150000Z
CLASS:PUBLIC
END:VEVENT
END:VCALENDAR
