BEGIN:VCALENDAR
PRODID:-//AT Content Types//AT Event//EN
VERSION:1.0
BEGIN:VEVENT
DTSTART:20220927T140000Z
DTEND:20220927T140000Z
DCREATED:20220915T110911Z
UID:ATEvent-109c65d1734745bc8f9258f9249279c9
SEQUENCE:0
LAST-MODIFIED:20220915T110931Z
SUMMARY:Comissió especial de seguiment de la CASS i per a la sostenibilitat de les pensions
LOCATION:Nova seu Planta -3 sala de compareixences públiques
PRIORITY:3
TRANSP:0
END:VEVENT
END:VCALENDAR
