BEGIN:VCALENDAR
PRODID:-//AT Content Types//AT Event//EN
VERSION:1.0
BEGIN:VEVENT
DTSTART:20220713T090000Z
DTEND:20220713T090000Z
DCREATED:20220707T112259Z
UID:ATEvent-40583733515a4da6b2ade06c857116bf
SEQUENCE:0
LAST-MODIFIED:20220707T113538Z
SUMMARY:Comissió especial de seguiment de la CASS i per a la sostenibilitat de les pensions
LOCATION:Nova seu Planta -3 sala CD
PRIORITY:3
TRANSP:0
END:VEVENT
END:VCALENDAR
