BEGIN:VCALENDAR
PRODID:-//AT Content Types//AT Event//EN
VERSION:2.0
METHOD:PUBLISH
BEGIN:VEVENT
DTSTAMP:20260423T170657Z
CREATED:20250113T164949Z
UID:ATEvent-bf173e521a594961923f5431c7b857c2
LAST-MODIFIED:20250113T165004Z
SUMMARY:Comissió d’estudi per assegurar un creixement urbanístic sostenible
DTSTART:20250115T153000Z
DTEND:20250115T170000Z
CLASS:PUBLIC
END:VEVENT
END:VCALENDAR
