BEGIN:VCALENDAR
PRODID:-//AT Content Types//AT Event//EN
VERSION:1.0
BEGIN:VEVENT
DTSTART:20250305T151000Z
DTEND:20250305T155000Z
DCREATED:20250205T090927Z
UID:ATEvent-c986f89b1963416a92d42523e4f8f0b7
SEQUENCE:0
LAST-MODIFIED:20250305T144100Z
SUMMARY:Comissió d’estudi per assegurar un creixement urbanístic sostenible
PRIORITY:3
TRANSP:0
END:VEVENT
END:VCALENDAR
