BEGIN:VCALENDAR
PRODID:-//AT Content Types//AT Event//EN
VERSION:1.0
BEGIN:VEVENT
DTSTART:20250305T143000Z
DTEND:20250305T151000Z
DCREATED:20250205T090553Z
UID:ATEvent-3c0ec008a71343d490a051981b2f4307
SEQUENCE:0
LAST-MODIFIED:20250205T090559Z
SUMMARY:Comissió d’estudi per assegurar un creixement urbanístic sostenible
PRIORITY:3
TRANSP:0
END:VEVENT
END:VCALENDAR
