BEGIN:VCALENDAR
PRODID:-//AT Content Types//AT Event//EN
VERSION:2.0
METHOD:PUBLISH
BEGIN:VEVENT
DTSTAMP:20260421T130209Z
CREATED:20250127T085304Z
UID:ATEvent-f16c392aa09d46ddb29f71ae8c5ec39b
LAST-MODIFIED:20250127T085308Z
SUMMARY:Comissió d’estudi per assegurar un creixement urbanístic sostenible
DTSTART:20250129T155000Z
DTEND:20250129T183000Z
CLASS:PUBLIC
END:VEVENT
END:VCALENDAR
