BEGIN:VCALENDAR
PRODID:-//AT Content Types//AT Event//EN
VERSION:1.0
BEGIN:VEVENT
DTSTART:20250129T151000Z
DTEND:20250129T155000Z
DCREATED:20250127T084835Z
UID:ATEvent-527dbf62be2b48f79209690775b6b37f
SEQUENCE:0
LAST-MODIFIED:20250127T085020Z
SUMMARY:Comissió d’estudi per assegurar un creixement urbanístic sostenible
PRIORITY:3
TRANSP:0
END:VEVENT
END:VCALENDAR
