BEGIN:VCALENDAR
PRODID:-//AT Content Types//AT Event//EN
VERSION:2.0
METHOD:PUBLISH
BEGIN:VEVENT
DTSTAMP:20260419T181447Z
CREATED:20240416T144634Z
UID:ATEvent-7a6b411aa2974bc6bacd3bd5f6080e25
LAST-MODIFIED:20240416T144643Z
SUMMARY:Comissió d’enquesta per esclarir els incidents relacionats amb el pagament irregular de pensions d’invalidesa de la CASS
DTSTART:20240417T063000Z
DTEND:20240417T080000Z
CLASS:PUBLIC
END:VEVENT
END:VCALENDAR
