BEGIN:VCALENDAR
PRODID:-//AT Content Types//AT Event//EN
VERSION:2.0
METHOD:PUBLISH
BEGIN:VEVENT
DTSTAMP:20260420T113325Z
CREATED:20140308T161123Z
UID:ATEvent-4c525cfdeab04a38bf7a349874a48e23
LAST-MODIFIED:20140312T071307Z
SUMMARY:Activitats familiars i per a infants
DTSTART:20140313T170000Z
DTEND:20140313T170000Z
LOCATION:Vestíbul del Consell General
CLASS:PUBLIC
END:VEVENT
END:VCALENDAR
