BEGIN:VCALENDAR
PRODID:-//AT Content Types//AT Event//EN
VERSION:1.0
BEGIN:VEVENT
DTSTART:20240904T093000Z
DTEND:20240904T110000Z
DCREATED:20240715T104450Z
UID:ATEvent-06e0bf859a5a45cb9e21b5b277ec914a
SEQUENCE:0
LAST-MODIFIED:20240716T120002Z
SUMMARY:Comissió Legislativa de Justícia\, Interior i Afers Institucionals
LOCATION:Consell General (planta -3).
PRIORITY:3
TRANSP:0
END:VEVENT
END:VCALENDAR
